BEGIN:VCALENDAR
VERSION:2.0
PRODID:SchoolNow
CALSCALE:GREGORIAN
BEGIN:VEVENT
UID:6ede45d4-c5e8-11ed-830e-028ceb8aab2b
DTSTAMP:20230318T235600Z
SUMMARY:Family Movie Morning - May 9th
LOCATION:Theatre
URL;VALUE=URI:https://www.wildernesslakecdd.org/calendar/3889328/family-mov
 ie-morning-may-9th
DTSTART:20230509T140000Z
DTEND:20230509T153000Z
END:VEVENT
END:VCALENDAR
