BEGIN:VCALENDAR
VERSION:2.0
PRODID:SchoolNow
CALSCALE:GREGORIAN
BEGIN:VEVENT
UID:5d5506d6-c5e8-11ed-a81d-028ceb8aab2b
DTSTAMP:20230318T235530Z
SUMMARY:Family Movie Morning - May 2nd
LOCATION:Theatre
URL;VALUE=URI:https://www.wildernesslakecdd.org/calendar/3889327/family-mov
 ie-morning-may-2nd
DTSTART:20230502T140000Z
DTEND:20230502T153000Z
END:VEVENT
END:VCALENDAR
