BEGIN:VCALENDAR
VERSION:2.0
PRODID:SchoolNow
CALSCALE:GREGORIAN
BEGIN:VEVENT
UID:0a1517f4-c5e8-11ed-9130-028ceb8aab2b
DTSTAMP:20230318T235350Z
SUMMARY:Pickleball - Jun. 1st
URL;VALUE=URI:https://www.wildernesslakecdd.org/calendar/3889326/pickleball
 -jun-1st
DTSTART:20230601T223000Z
DTEND:20230601T233000Z
END:VEVENT
END:VCALENDAR
