BEGIN:VCALENDAR
VERSION:2.0
PRODID:SchoolNow
CALSCALE:GREGORIAN
BEGIN:VEVENT
UID:0a1396f4-c5e8-11ed-937e-028ceb8aab2b
DTSTAMP:20230318T235327Z
SUMMARY:Pickleball - May 30th
URL;VALUE=URI:https://www.wildernesslakecdd.org/calendar/3889325/pickleball
 -may-30th
DTSTART:20230530T223000Z
DTEND:20230530T233000Z
END:VEVENT
END:VCALENDAR
