BEGIN:VCALENDAR
VERSION:2.0
PRODID:SchoolNow
CALSCALE:GREGORIAN
BEGIN:VEVENT
UID:f0e9b5d2-c5e7-11ed-8f30-028ceb8aab2b
DTSTAMP:20230318T235303Z
SUMMARY:Pickleball - May 25th
URL;VALUE=URI:https://www.wildernesslakecdd.org/calendar/3889324/pickleball
 -may-25th
DTSTART:20230525T223000Z
DTEND:20230525T233000Z
END:VEVENT
END:VCALENDAR
