BEGIN:VCALENDAR
VERSION:2.0
PRODID:SchoolNow
CALSCALE:GREGORIAN
BEGIN:VEVENT
UID:f0e86fb0-c5e7-11ed-bbdb-028ceb8aab2b
DTSTAMP:20230318T235245Z
SUMMARY:Pickleball - May 23rd
URL;VALUE=URI:https://www.wildernesslakecdd.org/calendar/3889323/pickleball
 -may-23rd
DTSTART:20230523T223000Z
DTEND:20230523T233000Z
END:VEVENT
END:VCALENDAR
