BEGIN:VCALENDAR
VERSION:2.0
PRODID:SchoolNow
CALSCALE:GREGORIAN
BEGIN:VEVENT
UID:d454306e-c5e7-11ed-8350-028ceb8aab2b
DTSTAMP:20230318T235159Z
SUMMARY:Pickleball - May 16th
URL;VALUE=URI:https://www.wildernesslakecdd.org/calendar/3889321/pickleball
 -may-16th
DTSTART:20230516T223000Z
DTEND:20230516T233000Z
END:VEVENT
END:VCALENDAR
