BEGIN:VCALENDAR
VERSION:2.0
PRODID:SchoolNow
CALSCALE:GREGORIAN
BEGIN:VEVENT
UID:b522c2dc-c5e7-11ed-a727-028ceb8aab2b
DTSTAMP:20230318T235123Z
SUMMARY:Pickleball - May 11th
URL;VALUE=URI:https://www.wildernesslakecdd.org/calendar/3889320/pickleball
 -may-11th
DTSTART:20230511T223000Z
DTEND:20230511T233000Z
END:VEVENT
END:VCALENDAR
