BEGIN:VCALENDAR
VERSION:2.0
PRODID:SchoolNow
CALSCALE:GREGORIAN
BEGIN:VEVENT
UID:b520a7ea-c5e7-11ed-b5c6-028ceb8aab2b
DTSTAMP:20230318T235101Z
SUMMARY:Pickleball - May 9th
URL;VALUE=URI:https://www.wildernesslakecdd.org/calendar/3889319/pickleball
 -may-9th
DTSTART:20230509T223000Z
DTEND:20230509T233000Z
END:VEVENT
END:VCALENDAR
