BEGIN:VCALENDAR
VERSION:2.0
PRODID:SchoolNow
CALSCALE:GREGORIAN
BEGIN:VEVENT
UID:af4b930c-c5e7-11ed-b58f-028ceb8aab2b
DTSTAMP:20230318T235038Z
SUMMARY:Pickleball - May 4th
URL;VALUE=URI:https://www.wildernesslakecdd.org/calendar/3889318/pickleball
 -may-4th
DTSTART:20230504T223000Z
DTEND:20230504T233000Z
END:VEVENT
END:VCALENDAR
