BEGIN:VCALENDAR
VERSION:2.0
PRODID:SchoolNow
CALSCALE:GREGORIAN
BEGIN:VEVENT
UID:a21440c6-c5e7-11ed-b160-028ceb8aab2b
DTSTAMP:20230318T235016Z
SUMMARY:Pickleball - May 2nd
URL;VALUE=URI:https://www.wildernesslakecdd.org/calendar/3889317/pickleball
 -may-2nd
DTSTART:20230502T223000Z
DTEND:20230502T233000Z
END:VEVENT
END:VCALENDAR
