BEGIN:VCALENDAR
VERSION:2.0
PRODID:SchoolNow
CALSCALE:GREGORIAN
BEGIN:VEVENT
UID:5228a84a-c5e7-11ed-855e-028ceb8aab2b
DTSTAMP:20230318T234858Z
SUMMARY:Yoga - Jun. 1st - Class 2
URL;VALUE=URI:https://www.wildernesslakecdd.org/calendar/3889316/yoga-jun-1
 st-class-2
DTSTART:20230601T135500Z
DTEND:20230601T145500Z
END:VEVENT
END:VCALENDAR
