BEGIN:VCALENDAR
VERSION:2.0
PRODID:SchoolNow
CALSCALE:GREGORIAN
BEGIN:VEVENT
UID:5226f4d2-c5e7-11ed-bc84-028ceb8aab2b
DTSTAMP:20230318T234826Z
SUMMARY:Yoga - Jun. 1st - Class 1
URL;VALUE=URI:https://www.wildernesslakecdd.org/calendar/3889315/yoga-jun-1
 st-class-1
DTSTART:20230601T124500Z
DTEND:20230601T134500Z
END:VEVENT
END:VCALENDAR
