BEGIN:VCALENDAR
VERSION:2.0
PRODID:SchoolNow
CALSCALE:GREGORIAN
BEGIN:VEVENT
UID:3414ee5e-c5e7-11ed-804f-028ceb8aab2b
DTSTAMP:20230318T234752Z
SUMMARY:Yoga - May 30th - Class 2
URL;VALUE=URI:https://www.wildernesslakecdd.org/calendar/3889314/yoga-may-3
 0th-class-2
DTSTART:20230530T135500Z
DTEND:20230530T145500Z
END:VEVENT
END:VCALENDAR
