BEGIN:VCALENDAR
VERSION:2.0
PRODID:SchoolNow
CALSCALE:GREGORIAN
BEGIN:VEVENT
UID:3413346a-c5e7-11ed-84fb-028ceb8aab2b
DTSTAMP:20230318T234731Z
SUMMARY:Yoga - May 30th - Class 1
URL;VALUE=URI:https://www.wildernesslakecdd.org/calendar/3889313/yoga-may-3
 0th-class-1
DTSTART:20230530T124500Z
DTEND:20230530T134500Z
END:VEVENT
END:VCALENDAR
