BEGIN:VCALENDAR
VERSION:2.0
PRODID:SchoolNow
CALSCALE:GREGORIAN
BEGIN:VEVENT
UID:efefe184-c5e6-11ed-89c3-028ceb8aab2b
DTSTAMP:20230318T234701Z
SUMMARY:Yoga - May 25th - Class 2
URL;VALUE=URI:https://www.wildernesslakecdd.org/calendar/3889312/yoga-may-2
 5th-class-2
DTSTART:20230525T135500Z
DTEND:20230525T145500Z
END:VEVENT
END:VCALENDAR
