BEGIN:VCALENDAR
VERSION:2.0
PRODID:SchoolNow
CALSCALE:GREGORIAN
BEGIN:VEVENT
UID:efeea3be-c5e6-11ed-adb8-028ceb8aab2b
DTSTAMP:20230318T234640Z
SUMMARY:Yoga - May 25th - Class 1
URL;VALUE=URI:https://www.wildernesslakecdd.org/calendar/3889311/yoga-may-2
 5th-class-1
DTSTART:20230525T124500Z
DTEND:20230525T134500Z
END:VEVENT
END:VCALENDAR
