BEGIN:VCALENDAR
VERSION:2.0
PRODID:SchoolNow
CALSCALE:GREGORIAN
BEGIN:VEVENT
UID:efecad66-c5e6-11ed-94c4-028ceb8aab2b
DTSTAMP:20230318T234616Z
SUMMARY:Yoga - May 23rd - Class 2
URL;VALUE=URI:https://www.wildernesslakecdd.org/calendar/3889310/yoga-may-2
 3rd-class-2
DTSTART:20230523T135500Z
DTEND:20230523T145500Z
END:VEVENT
END:VCALENDAR
