BEGIN:VCALENDAR
VERSION:2.0
PRODID:SchoolNow
CALSCALE:GREGORIAN
BEGIN:VEVENT
UID:efe7d7d2-c5e6-11ed-aab0-028ceb8aab2b
DTSTAMP:20230318T234537Z
SUMMARY:Yoga - May 23rd - Class 1
URL;VALUE=URI:https://www.wildernesslakecdd.org/calendar/3889309/yoga-may-2
 3rd-class-1
DTSTART:20230523T124500Z
DTEND:20230523T134500Z
END:VEVENT
END:VCALENDAR
