BEGIN:VCALENDAR
VERSION:2.0
PRODID:SchoolNow
CALSCALE:GREGORIAN
BEGIN:VEVENT
UID:a3e02862-c5e6-11ed-9c5a-028ceb8aab2b
DTSTAMP:20230318T234434Z
SUMMARY:Yoga - May 18th - Class 2
URL;VALUE=URI:https://www.wildernesslakecdd.org/calendar/3889308/yoga-may-1
 8th-class-2
DTSTART:20230518T135500Z
DTEND:20230518T145500Z
END:VEVENT
END:VCALENDAR
