BEGIN:VCALENDAR
VERSION:2.0
PRODID:SchoolNow
CALSCALE:GREGORIAN
BEGIN:VEVENT
UID:a3dec9f4-c5e6-11ed-b673-028ceb8aab2b
DTSTAMP:20230318T234410Z
SUMMARY:Yoga - May 18th - Class 1
URL;VALUE=URI:https://www.wildernesslakecdd.org/calendar/3889307/yoga-may-1
 8th-class-1
DTSTART:20230518T124500Z
DTEND:20230518T134500Z
END:VEVENT
END:VCALENDAR
