BEGIN:VCALENDAR
VERSION:2.0
PRODID:SchoolNow
CALSCALE:GREGORIAN
BEGIN:VEVENT
UID:a3dd9778-c5e6-11ed-add4-028ceb8aab2b
DTSTAMP:20230318T234351Z
SUMMARY:Yoga - May 16th - Class 2
URL;VALUE=URI:https://www.wildernesslakecdd.org/calendar/3889306/yoga-may-1
 6th-class-2
DTSTART:20230516T135500Z
DTEND:20230516T145500Z
END:VEVENT
END:VCALENDAR
