BEGIN:VCALENDAR
VERSION:2.0
PRODID:SchoolNow
CALSCALE:GREGORIAN
BEGIN:VEVENT
UID:a3da22d2-c5e6-11ed-b3f0-028ceb8aab2b
DTSTAMP:20230318T234332Z
SUMMARY:Yoga - May 16th - Class 1
URL;VALUE=URI:https://www.wildernesslakecdd.org/calendar/3889305/yoga-may-1
 6th-class-1
DTSTART:20230516T124500Z
DTEND:20230516T134500Z
END:VEVENT
END:VCALENDAR
