BEGIN:VCALENDAR
VERSION:2.0
PRODID:SchoolNow
CALSCALE:GREGORIAN
BEGIN:VEVENT
UID:70986532-c5e6-11ed-9ecf-028ceb8aab2b
DTSTAMP:20230318T234250Z
SUMMARY:Yoga - May 11th - Class 2
URL;VALUE=URI:https://www.wildernesslakecdd.org/calendar/3889304/yoga-may-1
 1th-class-2
DTSTART:20230511T135500Z
DTEND:20230511T145500Z
END:VEVENT
END:VCALENDAR
