BEGIN:VCALENDAR
VERSION:2.0
PRODID:SchoolNow
CALSCALE:GREGORIAN
BEGIN:VEVENT
UID:7096d3ac-c5e6-11ed-b939-028ceb8aab2b
DTSTAMP:20230318T234236Z
SUMMARY:Yoga - May 11th - Class 1
URL;VALUE=URI:https://www.wildernesslakecdd.org/calendar/3889303/yoga-may-1
 1th-class-1
DTSTART:20230511T124500Z
DTEND:20230511T134500Z
END:VEVENT
END:VCALENDAR
