BEGIN:VCALENDAR
VERSION:2.0
PRODID:SchoolNow
CALSCALE:GREGORIAN
BEGIN:VEVENT
UID:7095b2b0-c5e6-11ed-9e66-028ceb8aab2b
DTSTAMP:20230318T234221Z
SUMMARY:Yoga - May 9th - Class 2
URL;VALUE=URI:https://www.wildernesslakecdd.org/calendar/3889302/yoga-may-9
 th-class-2
DTSTART:20230509T135500Z
DTEND:20230509T145500Z
END:VEVENT
END:VCALENDAR
