BEGIN:VCALENDAR
VERSION:2.0
PRODID:SchoolNow
CALSCALE:GREGORIAN
BEGIN:VEVENT
UID:7093d8aa-c5e6-11ed-b612-028ceb8aab2b
DTSTAMP:20230318T234204Z
SUMMARY:Yoga - May 9th - Class 1
URL;VALUE=URI:https://www.wildernesslakecdd.org/calendar/3889301/yoga-may-9
 th-class-1
DTSTART:20230509T124500Z
DTEND:20230509T134500Z
END:VEVENT
END:VCALENDAR
