BEGIN:VCALENDAR
VERSION:2.0
PRODID:SchoolNow
CALSCALE:GREGORIAN
BEGIN:VEVENT
UID:57667c34-c5e6-11ed-9449-028ceb8aab2b
DTSTAMP:20230318T234137Z
SUMMARY:Yoga - May 4th - Class 2
URL;VALUE=URI:https://www.wildernesslakecdd.org/calendar/3889300/yoga-may-4
 th-class-2
DTSTART:20230504T135500Z
DTEND:20230504T145500Z
END:VEVENT
END:VCALENDAR
