BEGIN:VCALENDAR
VERSION:2.0
PRODID:SchoolNow
CALSCALE:GREGORIAN
BEGIN:VEVENT
UID:5761de54-c5e6-11ed-91b5-028ceb8aab2b
DTSTAMP:20230318T234118Z
SUMMARY:Yoga - May 4th - Class 1
URL;VALUE=URI:https://www.wildernesslakecdd.org/calendar/3889299/yoga-may-4
 th-class-1
DTSTART:20230504T124500Z
DTEND:20230504T134500Z
END:VEVENT
END:VCALENDAR
