BEGIN:VCALENDAR
VERSION:2.0
PRODID:SchoolNow
CALSCALE:GREGORIAN
BEGIN:VEVENT
UID:14e4442c-c5e6-11ed-8982-0e3d1f2a25a1
DTSTAMP:20230318T233957Z
SUMMARY:Yoga - May 2nd - Class 2
URL;VALUE=URI:https://www.wildernesslakecdd.org/calendar/3889298/yoga-may-2
 nd-class-2
DTSTART:20230502T135500Z
DTEND:20230502T145500Z
END:VEVENT
END:VCALENDAR
