BEGIN:VCALENDAR
VERSION:2.0
PRODID:SchoolNow
CALSCALE:GREGORIAN
BEGIN:VEVENT
UID:14e24a1e-c5e6-11ed-aaa0-0e3d1f2a25a1
DTSTAMP:20230318T234048Z
SUMMARY:Yoga - May 2nd - Class 1
URL;VALUE=URI:https://www.wildernesslakecdd.org/calendar/3889297/yoga-may-2
 nd-class-1
DTSTART:20230502T124500Z
DTEND:20230502T134500Z
END:VEVENT
END:VCALENDAR
