BEGIN:VCALENDAR
VERSION:2.0
PRODID:SchoolNow
CALSCALE:GREGORIAN
BEGIN:VEVENT
UID:f4b19bd2-c5e5-11ed-8e71-0e3d1f2a25a1
DTSTAMP:20230318T233816Z
SUMMARY:Mahjong - May 29th
URL;VALUE=URI:https://www.wildernesslakecdd.org/calendar/3889296/mahjong-ma
 y-29th
DTSTART:20230529T170000Z
DTEND:20230529T190000Z
END:VEVENT
END:VCALENDAR
