BEGIN:VCALENDAR
VERSION:2.0
PRODID:SchoolNow
CALSCALE:GREGORIAN
BEGIN:VEVENT
UID:eb8c6ff0-c5e5-11ed-b332-0e3d1f2a25a1
DTSTAMP:20230318T233800Z
SUMMARY:Mahjong - May 22nd
URL;VALUE=URI:https://www.wildernesslakecdd.org/calendar/3889295/mahjong-ma
 y-22nd
DTSTART:20230522T170000Z
DTEND:20230522T190000Z
END:VEVENT
END:VCALENDAR
