BEGIN:VCALENDAR
VERSION:2.0
PRODID:SchoolNow
CALSCALE:GREGORIAN
BEGIN:VEVENT
UID:e2183f3a-c5e5-11ed-906a-0e3d1f2a25a1
DTSTAMP:20230318T233744Z
SUMMARY:Mahjong - May 15th
URL;VALUE=URI:https://www.wildernesslakecdd.org/calendar/3889294/mahjong-ma
 y-15th
DTSTART:20230515T170000Z
DTEND:20230515T190000Z
END:VEVENT
END:VCALENDAR
