BEGIN:VCALENDAR
VERSION:2.0
PRODID:SchoolNow
CALSCALE:GREGORIAN
BEGIN:VEVENT
UID:d89168ba-c5e5-11ed-9cd5-0e3d1f2a25a1
DTSTAMP:20230318T233728Z
SUMMARY:Mahjong - May 8th
URL;VALUE=URI:https://www.wildernesslakecdd.org/calendar/3889293/mahjong-ma
 y-8th
DTSTART:20230508T170000Z
DTEND:20230508T190000Z
END:VEVENT
END:VCALENDAR
