BEGIN:VCALENDAR
VERSION:2.0
PRODID:SchoolNow
CALSCALE:GREGORIAN
BEGIN:VEVENT
UID:abe86462-c5e5-11ed-bd96-0e3d1f2a25a1
DTSTAMP:20230318T233614Z
SUMMARY:Storytime - May 29th
URL;VALUE=URI:https://www.wildernesslakecdd.org/calendar/3889291/storytime-
 may-29th
DTSTART:20230529T140000Z
DTEND:20230529T150000Z
END:VEVENT
END:VCALENDAR
