BEGIN:VCALENDAR
VERSION:2.0
PRODID:SchoolNow
CALSCALE:GREGORIAN
BEGIN:VEVENT
UID:a0d58546-c5e5-11ed-b134-0e3d1f2a25a1
DTSTAMP:20230318T233555Z
SUMMARY:Storytime - May 22nd
URL;VALUE=URI:https://www.wildernesslakecdd.org/calendar/3889290/storytime-
 may-22nd
DTSTART:20230522T140000Z
DTEND:20230522T150000Z
END:VEVENT
END:VCALENDAR
