BEGIN:VCALENDAR
VERSION:2.0
PRODID:SchoolNow
CALSCALE:GREGORIAN
BEGIN:VEVENT
UID:97885b4e-c5e5-11ed-ac08-0e3d1f2a25a1
DTSTAMP:20230318T233539Z
SUMMARY:Storytime - May 15th
URL;VALUE=URI:https://www.wildernesslakecdd.org/calendar/3889289/storytime-
 may-15th
DTSTART:20230515T140000Z
DTEND:20230515T150000Z
END:VEVENT
END:VCALENDAR
