BEGIN:VCALENDAR
VERSION:2.0
PRODID:SchoolNow
CALSCALE:GREGORIAN
BEGIN:VEVENT
UID:8e587d6a-c5e5-11ed-9f26-0e3d1f2a25a1
DTSTAMP:20230318T233524Z
SUMMARY:Storytime - May 8th
URL;VALUE=URI:https://www.wildernesslakecdd.org/calendar/3889288/storytime-
 may-8th
DTSTART:20230508T140000Z
DTEND:20230508T150000Z
END:VEVENT
END:VCALENDAR
