BEGIN:VCALENDAR
VERSION:2.0
PRODID:SchoolNow
CALSCALE:GREGORIAN
BEGIN:VEVENT
UID:81208e08-c5e5-11ed-ac50-0e3d1f2a25a1
DTSTAMP:20230318T233502Z
SUMMARY:Storytime - May 1st
URL;VALUE=URI:https://www.wildernesslakecdd.org/calendar/3889287/storytime-
 may-1st
DTSTART:20230501T140000Z
DTEND:20230501T150000Z
END:VEVENT
END:VCALENDAR
