BEGIN:VCALENDAR
VERSION:2.0
PRODID:SchoolNow
CALSCALE:GREGORIAN
BEGIN:VEVENT
UID:d55b8316-c5e4-11ed-8a3c-0e3d1f2a25a1
DTSTAMP:20230318T233049Z
SUMMARY:Walking & Toning - May 31st
URL;VALUE=URI:https://www.wildernesslakecdd.org/calendar/3889285/walking-to
 ning-may-31st
DTSTART:20230531T133000Z
DTEND:20230531T144500Z
END:VEVENT
END:VCALENDAR
