BEGIN:VCALENDAR
VERSION:2.0
PRODID:SchoolNow
CALSCALE:GREGORIAN
BEGIN:VEVENT
UID:d558e1e2-c5e4-11ed-b6d0-0e3d1f2a25a1
DTSTAMP:20230318T233029Z
SUMMARY:Walking & Toning - May 29th
URL;VALUE=URI:https://www.wildernesslakecdd.org/calendar/3889284/walking-to
 ning-may-29th
DTSTART:20230529T133000Z
DTEND:20230529T144500Z
END:VEVENT
END:VCALENDAR
