BEGIN:VCALENDAR
VERSION:2.0
PRODID:SchoolNow
CALSCALE:GREGORIAN
BEGIN:VEVENT
UID:afdadccc-c5e4-11ed-bb60-0e3d1f2a25a1
DTSTAMP:20230318T233004Z
SUMMARY:Walking & Toning - May 26th
URL;VALUE=URI:https://www.wildernesslakecdd.org/calendar/3889283/walking-to
 ning-may-26th
DTSTART:20230526T133000Z
DTEND:20230526T144500Z
END:VEVENT
END:VCALENDAR
