BEGIN:VCALENDAR
VERSION:2.0
PRODID:SchoolNow
CALSCALE:GREGORIAN
BEGIN:VEVENT
UID:afd91202-c5e4-11ed-a27a-0e3d1f2a25a1
DTSTAMP:20230318T232944Z
SUMMARY:Walking & Toning - May 24th
URL;VALUE=URI:https://www.wildernesslakecdd.org/calendar/3889282/walking-to
 ning-may-24th
DTSTART:20230524T133000Z
DTEND:20230524T144500Z
END:VEVENT
END:VCALENDAR
