BEGIN:VCALENDAR
VERSION:2.0
PRODID:SchoolNow
CALSCALE:GREGORIAN
BEGIN:VEVENT
UID:afd75084-c5e4-11ed-a324-0e3d1f2a25a1
DTSTAMP:20230318T232927Z
SUMMARY:Walking & Toning - May 22nd
URL;VALUE=URI:https://www.wildernesslakecdd.org/calendar/3889281/walking-to
 ning-may-22nd
DTSTART:20230522T133000Z
DTEND:20230522T144500Z
END:VEVENT
END:VCALENDAR
