BEGIN:VCALENDAR
VERSION:2.0
PRODID:SchoolNow
CALSCALE:GREGORIAN
BEGIN:VEVENT
UID:8a19a0ea-c5e4-11ed-873d-0e3d1f2a25a1
DTSTAMP:20230318T232900Z
SUMMARY:Walking & Toning - May 19th
URL;VALUE=URI:https://www.wildernesslakecdd.org/calendar/3889280/walking-to
 ning-may-19th
DTSTART:20230519T133000Z
DTEND:20230519T144500Z
END:VEVENT
END:VCALENDAR
