BEGIN:VCALENDAR
VERSION:2.0
PRODID:SchoolNow
CALSCALE:GREGORIAN
BEGIN:VEVENT
UID:8a182b7a-c5e4-11ed-8700-0e3d1f2a25a1
DTSTAMP:20230318T232839Z
SUMMARY:Walking & Toning - May 17th
URL;VALUE=URI:https://www.wildernesslakecdd.org/calendar/3889279/walking-to
 ning-may-17th
DTSTART:20230517T133000Z
DTEND:20230517T144500Z
END:VEVENT
END:VCALENDAR
