BEGIN:VCALENDAR
VERSION:2.0
PRODID:SchoolNow
CALSCALE:GREGORIAN
BEGIN:VEVENT
UID:8a156336-c5e4-11ed-9c61-0e3d1f2a25a1
DTSTAMP:20230318T232824Z
SUMMARY:Walking & Toning - May 15th
URL;VALUE=URI:https://www.wildernesslakecdd.org/calendar/3889278/walking-to
 ning-may-15th
DTSTART:20230515T133000Z
DTEND:20230515T144500Z
END:VEVENT
END:VCALENDAR
