BEGIN:VCALENDAR
VERSION:2.0
PRODID:SchoolNow
CALSCALE:GREGORIAN
BEGIN:VEVENT
UID:5bda05ee-c5e4-11ed-bbb5-0e3d1f2a25a1
DTSTAMP:20230318T232758Z
SUMMARY:Walking & Toning - May 12th
URL;VALUE=URI:https://www.wildernesslakecdd.org/calendar/3889277/walking-to
 ning-may-12th
DTSTART:20230512T133000Z
DTEND:20230512T144500Z
END:VEVENT
END:VCALENDAR
