BEGIN:VCALENDAR
VERSION:2.0
PRODID:SchoolNow
CALSCALE:GREGORIAN
BEGIN:VEVENT
UID:5bd8b6f8-c5e4-11ed-8857-0e3d1f2a25a1
DTSTAMP:20230318T232726Z
SUMMARY:Walking & Toning - May 10th
URL;VALUE=URI:https://www.wildernesslakecdd.org/calendar/3889276/walking-to
 ning-may-10th
DTSTART:20230510T133000Z
DTEND:20230510T144500Z
END:VEVENT
END:VCALENDAR
